BEGIN:VCALENDAR
VERSION:2.0
PRODID:-//ABMA-SP - ECPv6.15.20//NONSGML v1.0//EN
CALSCALE:GREGORIAN
METHOD:PUBLISH
X-ORIGINAL-URL:https://abmasp.com.br
X-WR-CALDESC:Eventos para ABMA-SP
REFRESH-INTERVAL;VALUE=DURATION:PT1H
X-Robots-Tag:noindex
X-PUBLISHED-TTL:PT1H
BEGIN:VTIMEZONE
TZID:America/Sao_Paulo
BEGIN:STANDARD
TZOFFSETFROM:-0300
TZOFFSETTO:-0300
TZNAME:-03
DTSTART:20250101T000000
END:STANDARD
END:VTIMEZONE
BEGIN:VEVENT
DTSTART;TZID=America/Sao_Paulo:20260425T083000
DTEND;TZID=America/Sao_Paulo:20260425T173000
DTSTAMP:20260421T085842
CREATED:20260120T202134Z
LAST-MODIFIED:20260226T175813Z
UID:3920-1777105800-1777138200@abmasp.com.br
SUMMARY:Seminário: Antroposofia como Cosmosofia - GA 207-I
DESCRIPTION:Seminário sobre o ciclo de palestras da GA 207-I Antroposofia como Cosmosofia: uma jornada a caminho da consciência para o Cristo. \nEste ciclo de palestras traz o contexto espiritual da criação do mundo\, sua relação com o ser humano e a importância da compreensão do Mistério do Gólgota para o futuro da humanidade. \nEste encontro é fruto das pesquisas do grupo de estudos do Colegiado da Seção Médica no Brasil. \nHorário:08:30 às 17:30\nLocal: Casa de Rudolf Steiner – Rua Pereira Leite\, 156 – Sumarezinho \nContribuição: R$ 150\,00 \n(Desconto de 50% para alunos e sócios da ABMA-SP) \n  \nINSCREVA-SE PELO FORMULÁRIO ABAIXO\n\n\n  \n\n\n\n\n	Nome*\n\n	 \n\n\n	Email*\n\n	 \n\n\n	Telefone\n\n	 \n\n\n	Profissão\n\n	 \n\n\n	CRM\n\n	 \n\n\n	(*) Campos Obrigatórios\n	 \n	\n	 \nΔ
URL:https://abmasp.com.br/calendario/seminario-antroposofia-como-cosmosofia-ga-207-i/
LOCATION:Casa de Rudolf Steiner\, Rua Pereira Leite\, 156\, São Paulo\, São Paulo\, 05442-000\, Brasil
ATTACH;FMTTYPE=image/jpeg:https://abmasp.com.br/wp-content/uploads/2026/01/Seminario-Antroposofia-como-Cosmosofia-1.jpg
END:VEVENT
END:VCALENDAR